BEGIN:VCALENDAR
VERSION:2.0
PRODID:-//wp-events-plugin.com//7.2.3.1//EN
TZID:Europe/Berlin
X-WR-TIMEZONE:Europe/Berlin
BEGIN:VEVENT
UID:16@dorf-paustenbach.de
DTSTART;TZID=Europe/Berlin;VALUE=DATE:20260829
DTEND;TZID=Europe/Berlin;VALUE=DATE:20260830
DTSTAMP:20260125T102816Z
URL:http://dorf-paustenbach.de/events/sommerfest-2026/
SUMMARY:Sommerfest
DESCRIPTION:
CATEGORIES:Theaterverein
LOCATION:Dorfplatz Paustenbach\, Paustenbacher Str. 31\, Dorfplatz\, 52152\
 , Deutschland
X-APPLE-STRUCTURED-LOCATION;VALUE=URI;X-ADDRESS=Paustenbacher Str. 31\, Dor
 fplatz\, 52152\, Deutschland;X-APPLE-RADIUS=100;X-TITLE=Dorfplatz Paustenb
 ach:geo:0,0
END:VEVENT
BEGIN:VTIMEZONE
TZID:Europe/Berlin
X-LIC-LOCATION:Europe/Berlin
BEGIN:DAYLIGHT
DTSTART:20260329T030000
TZOFFSETFROM:+0100
TZOFFSETTO:+0200
TZNAME:CEST
END:DAYLIGHT
END:VTIMEZONE
END:VCALENDAR